Workbook
Name 井原: データ!$O$4:$O$16
Name 岡山: データ!$B$4:$B$93
Name 笠岡: データ!$M$4:$M$19
Name 吉備中央: データ!$C$4:$C$13
Name 久米南: データ!$V$4:$V$6
Name 鏡野: データ!$T$4:$T$8
Name 玉野: データ!$H$4:$H$17
Name 高梁: データ!$Q$4:$Q$17
Name 勝央: データ!$Z$4:$Z$5
Name 新見: データ!$R$4:$R$16
Name 新庄: データ!$X$4
Name 真庭: データ!$W$4:$W$23
Name 瀬戸内: データ!$G$4:$G$12
Name 西粟倉: データ!$AB$4
Name 赤磐: データ!$E$4:$E$15
Name 浅口: データ!$K$4:$K$10
Name 倉敷: データ!$J$4:$J$65
Name 早島: データ!$I$4
Name 総社: データ!$P$4:$P$18
Name 津山: データ!$S$4:$S$30
Name 奈義: データ!$AA$4:$AA$4
Name 備前: データ!$D$4:$D$13
Name 美咲: データ!$U$4:$U$8
Name 美作: データ!$Y$4:$Y$11
Name 矢掛: データ!$N$4:$N$10
Name 里庄: データ!$L$4:$L$5
Name 和気: データ!$F$4:$F$6

Sheet 申し込みシート
A1: 岡山県学童陸上競技大会申込みシート | G1: 下に入力の説明があります。
B2: 市町村 | D2: 所属 | F2: 申込み責任者 | M2: 携帯番号 | R2: ベスト記録を測定した大会名。 | V2: =C2 -> 0 | W2: =E2 -> 0 | X2: =E3 -> 0 | Y2: =COUNTIF($H$5:$H$44,1) -> 0 | Z2: =COUNTIF($H$5:$H$44,2) -> 0 | AA2: =Y2+Z2 -> 0 | AB2: =G2 -> 0 | AC2: =N2 -> 0 | AD2: =M3 -> 0 | AE2: =G3 -> 0
I3: 当日の引率者・携帯番号 | R3: 大会以外は測定者と日付。 | U3: 赤で囲まれているところをコピー
A4: 番号 | B4: 市町村 | C4: 学 校 | D4: アスリートビブス （記入しない） | E4: 氏 名 （姓と名の間に全角スペースを入れる） | F4: フリガナ （半角ｶﾀｶﾅで） | G4: 学年 | H4: 性別 | I4: 種目番号 | J4: 個人種目 （種目名） | K4: 記録 | M4: 種目番号 | N4: 個人・リレー種目 （種目名） | O4: 記録 | Q4: リレー走順 | R4: 個人種目 | S4: リレー種目 | V4: DB | W4: Ｎ１ | X4: N2 | Y4: ＳＸ | Z4: KC | AA4: MC | AB4: ZK | AC4: Ｓ１ | AD4: Ｓ２ | AE4: この列まで範囲指定 | AF4: ｓ１ | AG4: ｓ２
A5: 001 | J5: =IF(I5="","",INDEX(データ!$AL$4:$AL$22,MATCH(申し込みシート!I5,データ!$AK$4:$AK$14,0))) | L5: =IF(K5="","",INDEX(データ!$AM$4:$AM$22,MATCH(申し込みシート!I5,データ!$AK$4:$AK$14,0))) | N5: =IF(M5="","",INDEX(データ!$AL$4:$AL$22,MATCH(申し込みシート!M5,データ!$AK$4:$AK$14,0))) | P5: =IF(O5="","",INDEX(データ!$AM$4:$AM$22,MATCH(申し込みシート!M5,データ!$AK$4:$AK$14,0))) | T5: =IF(C5="","",INDEX(データ!$AG$4:$AG$428,MATCH(申し込みシート!C5,データ!$AF$4:$AF$428,0))) | V5: =CONCATENATE(AA5,A5) -> 001 | W5: =CONCATENATE(E5,AH5,G5,AI5) -> () | X5: =F5 -> 0 | Y5: =H5 -> 0 | Z5: 33 | AA5: =T5 | AB5: =D5 -> 0 | AC5: =IF(I5="","",CONCATENATE(AF5,K5)) | AD5: =IF(M5="","",CONCATENATE(AG5,O5)) | AF5: =INDEX(データ!$AN$4:$AN$14,MATCH(申し込みシート!I5,データ!$AK$4:$AK$14,0)) -> #N/A | AG5: =INDEX(データ!$AN$4:$AN$14,MATCH(申し込みシート!M5,データ!$AK$4:$AK$14,0)) -> #N/A | AH5: ( | AI5: )
A6: 002 | J6: =IF(I6="","",INDEX(データ!$AL$4:$AL$22,MATCH(申し込みシート!I6,データ!$AK$4:$AK$14,0))) | L6: =IF(K6="","",INDEX(データ!$AM$4:$AM$22,MATCH(申し込みシート!I6,データ!$AK$4:$AK$14,0))) | N6: =IF(M6="","",INDEX(データ!$AL$4:$AL$22,MATCH(申し込みシート!M6,データ!$AK$4:$AK$14,0))) | P6: =IF(O6="","",INDEX(データ!$AM$4:$AM$22,MATCH(申し込みシート!M6,データ!$AK$4:$AK$14,0))) | T6: =IF(C6="","",INDEX(データ!$AG$4:$AG$428,MATCH(申し込みシート!C6,データ!$AF$4:$AF$428,0))) | V6: =CONCATENATE(AA6,A6) -> 002 | W6: =CONCATENATE(E6,AH6,G6,AI6) -> () | X6: =F6 -> 0 | Y6: =H6 -> 0 | Z6: 33 | AA6: =T6 | AB6: =D6 -> 0 | AC6: =IF(I6="","",CONCATENATE(AF6,K6)) | AD6: =IF(M6="","",CONCATENATE(AG6,O6)) | AF6: =INDEX(データ!$AN$4:$AN$14,MATCH(申し込みシート!I6,データ!$AK$4:$AK$14,0)) -> #N/A | AG6: =INDEX(データ!$AN$4:$AN$14,MATCH(申し込みシート!M6,データ!$AK$4:$AK$14,0)) -> #N/A | AH6: ( | AI6: )
A7: 003 | J7: =IF(I7="","",INDEX(データ!$AL$4:$AL$22,MATCH(申し込みシート!I7,データ!$AK$4:$AK$14,0))) | L7: =IF(K7="","",INDEX(データ!$AM$4:$AM$22,MATCH(申し込みシート!I7,データ!$AK$4:$AK$14,0))) | N7: =IF(M7="","",INDEX(データ!$AL$4:$AL$22,MATCH(申し込みシート!M7,データ!$AK$4:$AK$14,0))) | P7: =IF(O7="","",INDEX(データ!$AM$4:$AM$22,MATCH(申し込みシート!M7,データ!$AK$4:$AK$14,0))) | T7: =IF(C7="","",INDEX(データ!$AG$4:$AG$428,MATCH(申し込みシート!C7,データ!$AF$4:$AF$428,0))) | V7: =CONCATENATE(AA7,A7) -> 003 | W7: =CONCATENATE(E7,AH7,G7,AI7) -> () | X7: =F7 -> 0 | Y7: =H7 -> 0 | Z7: 33 | AA7: =T7 | AB7: =D7 -> 0 | AC7: =IF(I7="","",CONCATENATE(AF7,K7)) | AD7: =IF(M7="","",CONCATENATE(AG7,O7)) | AF7: =INDEX(データ!$AN$4:$AN$14,MATCH(申し込みシート!I7,データ!$AK$4:$AK$14,0)) -> #N/A | AG7: =INDEX(データ!$AN$4:$AN$14,MATCH(申し込みシート!M7,データ!$AK$4:$AK$14,0)) -> #N/A | AH7: ( | AI7: )
A8: 004 | J8: =IF(I8="","",INDEX(データ!$AL$4:$AL$22,MATCH(申し込みシート!I8,データ!$AK$4:$AK$14,0))) | L8: =IF(K8="","",INDEX(データ!$AM$4:$AM$22,MATCH(申し込みシート!I8,データ!$AK$4:$AK$14,0))) | N8: =IF(M8="","",INDEX(データ!$AL$4:$AL$22,MATCH(申し込みシート!M8,データ!$AK$4:$AK$14,0))) | P8: =IF(O8="","",INDEX(データ!$AM$4:$AM$22,MATCH(申し込みシート!M8,データ!$AK$4:$AK$14,0))) | T8: =IF(C8="","",INDEX(データ!$AG$4:$AG$428,MATCH(申し込みシート!C8,データ!$AF$4:$AF$428,0))) | V8: =CONCATENATE(AA8,A8) -> 004 | W8: =CONCATENATE(E8,AH8,G8,AI8) -> () | X8: =F8 -> 0 | Y8: =H8 -> 0 | Z8: 33 | AA8: =T8 | AB8: =D8 -> 0 | AC8: =IF(I8="","",CONCATENATE(AF8,K8)) | AD8: =IF(M8="","",CONCATENATE(AG8,O8)) | AF8: =INDEX(データ!$AN$4:$AN$14,MATCH(申し込みシート!I8,データ!$AK$4:$AK$14,0)) -> #N/A | AG8: =INDEX(データ!$AN$4:$AN$14,MATCH(申し込みシート!M8,データ!$AK$4:$AK$14,0)) -> #N/A | AH8: ( | AI8: )
A9: 005 | J9: =IF(I9="","",INDEX(データ!$AL$4:$AL$22,MATCH(申し込みシート!I9,データ!$AK$4:$AK$14,0))) | L9: =IF(K9="","",INDEX(データ!$AM$4:$AM$22,MATCH(申し込みシート!I9,データ!$AK$4:$AK$14,0))) | N9: =IF(M9="","",INDEX(データ!$AL$4:$AL$22,MATCH(申し込みシート!M9,データ!$AK$4:$AK$14,0))) | P9: =IF(O9="","",INDEX(データ!$AM$4:$AM$22,MATCH(申し込みシート!M9,データ!$AK$4:$AK$14,0))) | T9: =IF(C9="","",INDEX(データ!$AG$4:$AG$428,MATCH(申し込みシート!C9,データ!$AF$4:$AF$428,0))) | V9: =CONCATENATE(AA9,A9) -> 005 | W9: =CONCATENATE(E9,AH9,G9,AI9) -> () | X9: =F9 -> 0 | Y9: =H9 -> 0 | Z9: 33 | AA9: =T9 | AB9: =D9 -> 0 | AC9: =IF(I9="","",CONCATENATE(AF9,K9)) | AD9: =IF(M9="","",CONCATENATE(AG9,O9)) | AF9: =INDEX(データ!$AN$4:$AN$14,MATCH(申し込みシート!I9,データ!$AK$4:$AK$14,0)) -> #N/A | AG9: =INDEX(データ!$AN$4:$AN$14,MATCH(申し込みシート!M9,データ!$AK$4:$AK$14,0)) -> #N/A | AH9: ( | AI9: )
A10: 006 | J10: =IF(I10="","",INDEX(データ!$AL$4:$AL$22,MATCH(申し込みシート!I10,データ!$AK$4:$AK$14,0))) | L10: =IF(K10="","",INDEX(データ!$AM$4:$AM$22,MATCH(申し込みシート!I10,データ!$AK$4:$AK$14,0))) | N10: =IF(M10="","",INDEX(データ!$AL$4:$AL$22,MATCH(申し込みシート!M10,データ!$AK$4:$AK$14,0))) | P10: =IF(O10="","",INDEX(データ!$AM$4:$AM$22,MATCH(申し込みシート!M10,データ!$AK$4:$AK$14,0))) | T10: =IF(C10="","",INDEX(データ!$AG$4:$AG$428,MATCH(申し込みシート!C10,データ!$AF$4:$AF$428,0))) | V10: =CONCATENATE(AA10,A10) -> 006 | W10: =CONCATENATE(E10,AH10,G10,AI10) -> () | X10: =F10 -> 0 | Y10: =H10 -> 0 | Z10: 33 | AA10: =T10 | AB10: =D10 -> 0 | AC10: =IF(I10="","",CONCATENATE(AF10,K10)) | AD10: =IF(M10="","",CONCATENATE(AG10,O10)) | AF10: =INDEX(データ!$AN$4:$AN$14,MATCH(申し込みシート!I10,データ!$AK$4:$AK$14,0)) -> #N/A | AG10: =INDEX(データ!$AN$4:$AN$14,MATCH(申し込みシート!M10,データ!$AK$4:$AK$14,0)) -> #N/A | AH10: ( | AI10: )
A11: 007 | J11: =IF(I11="","",INDEX(データ!$AL$4:$AL$22,MATCH(申し込みシート!I11,データ!$AK$4:$AK$14,0))) | L11: =IF(K11="","",INDEX(データ!$AM$4:$AM$22,MATCH(申し込みシート!I11,データ!$AK$4:$AK$14,0))) | N11: =IF(M11="","",INDEX(データ!$AL$4:$AL$22,MATCH(申し込みシート!M11,データ!$AK$4:$AK$14,0))) | P11: =IF(O11="","",INDEX(データ!$AM$4:$AM$22,MATCH(申し込みシート!M11,データ!$AK$4:$AK$14,0))) | T11: =IF(C11="","",INDEX(データ!$AG$4:$AG$428,MATCH(申し込みシート!C11,データ!$AF$4:$AF$428,0))) | V11: =CONCATENATE(AA11,A11) -> 007 | W11: =CONCATENATE(E11,AH11,G11,AI11) -> () | X11: =F11 -> 0 | Y11: =H11 -> 0 | Z11: 33 | AA11: =T11 | AB11: =D11 -> 0 | AC11: =IF(I11="","",CONCATENATE(AF11,K11)) | AD11: =IF(M11="","",CONCATENATE(AG11,O11)) | AF11: =INDEX(データ!$AN$4:$AN$14,MATCH(申し込みシート!I11,データ!$AK$4:$AK$14,0)) -> #N/A | AG11: =INDEX(データ!$AN$4:$AN$14,MATCH(申し込みシート!M11,データ!$AK$4:$AK$14,0)) -> #N/A | AH11: ( | AI11: )
A12: 008 | J12: =IF(I12="","",INDEX(データ!$AL$4:$AL$22,MATCH(申し込みシート!I12,データ!$AK$4:$AK$14,0))) | L12: =IF(K12="","",INDEX(データ!$AM$4:$AM$22,MATCH(申し込みシート!I12,データ!$AK$4:$AK$14,0))) | N12: =IF(M12="","",INDEX(データ!$AL$4:$AL$22,MATCH(申し込みシート!M12,データ!$AK$4:$AK$14,0))) | P12: =IF(O12="","",INDEX(データ!$AM$4:$AM$22,MATCH(申し込みシート!M12,データ!$AK$4:$AK$14,0))) | T12: =IF(C12="","",INDEX(データ!$AG$4:$AG$428,MATCH(申し込みシート!C12,データ!$AF$4:$AF$428,0))) | V12: =CONCATENATE(AA12,A12) -> 008 | W12: =CONCATENATE(E12,AH12,G12,AI12) -> () | X12: =F12 -> 0 | Y12: =H12 -> 0 | Z12: 33 | AA12: =T12 | AB12: =D12 -> 0 | AC12: =IF(I12="","",CONCATENATE(AF12,K12)) | AD12: =IF(M12="","",CONCATENATE(AG12,O12)) | AF12: =INDEX(データ!$AN$4:$AN$14,MATCH(申し込みシート!I12,データ!$AK$4:$AK$14,0)) -> #N/A | AG12: =INDEX(データ!$AN$4:$AN$14,MATCH(申し込みシート!M12,データ!$AK$4:$AK$14,0)) -> #N/A | AH12: ( | AI12: )
A13: 009 | J13: =IF(I13="","",INDEX(データ!$AL$4:$AL$22,MATCH(申し込みシート!I13,データ!$AK$4:$AK$14,0))) | L13: =IF(K13="","",INDEX(データ!$AM$4:$AM$22,MATCH(申し込みシート!I13,データ!$AK$4:$AK$14,0))) | N13: =IF(M13="","",INDEX(データ!$AL$4:$AL$22,MATCH(申し込みシート!M13,データ!$AK$4:$AK$14,0))) | P13: =IF(O13="","",INDEX(データ!$AM$4:$AM$22,MATCH(申し込みシート!M13,データ!$AK$4:$AK$14,0))) | T13: =IF(C13="","",INDEX(データ!$AG$4:$AG$428,MATCH(申し込みシート!C13,データ!$AF$4:$AF$428,0))) | V13: =CONCATENATE(AA13,A13) -> 009 | W13: =CONCATENATE(E13,AH13,G13,AI13) -> () | X13: =F13 -> 0 | Y13: =H13 -> 0 | Z13: 33 | AA13: =T13 | AB13: =D13 -> 0 | AC13: =IF(I13="","",CONCATENATE(AF13,K13)) | AD13: =IF(M13="","",CONCATENATE(AG13,O13)) | AF13: =INDEX(データ!$AN$4:$AN$14,MATCH(申し込みシート!I13,データ!$AK$4:$AK$14,0)) -> #N/A | AG13: =INDEX(データ!$AN$4:$AN$14,MATCH(申し込みシート!M13,データ!$AK$4:$AK$14,0)) -> #N/A | AH13: ( | AI13: )
A14: 010 | J14: =IF(I14="","",INDEX(データ!$AL$4:$AL$22,MATCH(申し込みシート!I14,データ!$AK$4:$AK$14,0))) | L14: =IF(K14="","",INDEX(データ!$AM$4:$AM$22,MATCH(申し込みシート!I14,データ!$AK$4:$AK$14,0))) | N14: =IF(M14="","",INDEX(データ!$AL$4:$AL$22,MATCH(申し込みシート!M14,データ!$AK$4:$AK$14,0))) | P14: =IF(O14="","",INDEX(データ!$AM$4:$AM$22,MATCH(申し込みシート!M14,データ!$AK$4:$AK$14,0))) | T14: =IF(C14="","",INDEX(データ!$AG$4:$AG$428,MATCH(申し込みシート!C14,データ!$AF$4:$AF$428,0))) | V14: =CONCATENATE(AA14,A14) -> 010 | W14: =CONCATENATE(E14,AH14,G14,AI14) -> () | X14: =F14 -> 0 | Y14: =H14 -> 0 | Z14: 33 | AA14: =T14 | AB14: =D14 -> 0 | AC14: =IF(I14="","",CONCATENATE(AF14,K14)) | AD14: =IF(M14="","",CONCATENATE(AG14,O14)) | AF14: =INDEX(データ!$AN$4:$AN$14,MATCH(申し込みシート!I14,データ!$AK$4:$AK$14,0)) -> #N/A | AG14: =INDEX(データ!$AN$4:$AN$14,MATCH(申し込みシート!M14,データ!$AK$4:$AK$14,0)) -> #N/A | AH14: ( | AI14: )
A15: 011 | J15: =IF(I15="","",INDEX(データ!$AL$4:$AL$22,MATCH(申し込みシート!I15,データ!$AK$4:$AK$14,0))) | L15: =IF(K15="","",INDEX(データ!$AM$4:$AM$22,MATCH(申し込みシート!I15,データ!$AK$4:$AK$14,0))) | N15: =IF(M15="","",INDEX(データ!$AL$4:$AL$22,MATCH(申し込みシート!M15,データ!$AK$4:$AK$14,0))) | P15: =IF(O15="","",INDEX(データ!$AM$4:$AM$22,MATCH(申し込みシート!M15,データ!$AK$4:$AK$14,0))) | T15: =IF(C15="","",INDEX(データ!$AG$4:$AG$428,MATCH(申し込みシート!C15,データ!$AF$4:$AF$428,0))) | V15: =CONCATENATE(AA15,A15) -> 011 | W15: =CONCATENATE(E15,AH15,G15,AI15) -> () | X15: =F15 -> 0 | Y15: =H15 -> 0 | Z15: 33 | AA15: =T15 | AB15: =D15 -> 0 | AC15: =IF(I15="","",CONCATENATE(AF15,K15)) | AD15: =IF(M15="","",CONCATENATE(AG15,O15)) | AF15: =INDEX(データ!$AN$4:$AN$14,MATCH(申し込みシート!I15,データ!$AK$4:$AK$14,0)) -> #N/A | AG15: =INDEX(データ!$AN$4:$AN$14,MATCH(申し込みシート!M15,データ!$AK$4:$AK$14,0)) -> #N/A | AH15: ( | AI15: )
A16: 012 | J16: =IF(I16="","",INDEX(データ!$AL$4:$AL$22,MATCH(申し込みシート!I16,データ!$AK$4:$AK$14,0))) | L16: =IF(K16="","",INDEX(データ!$AM$4:$AM$22,MATCH(申し込みシート!I16,データ!$AK$4:$AK$14,0))) | N16: =IF(M16="","",INDEX(データ!$AL$4:$AL$22,MATCH(申し込みシート!M16,データ!$AK$4:$AK$14,0))) | P16: =IF(O16="","",INDEX(データ!$AM$4:$AM$22,MATCH(申し込みシート!M16,データ!$AK$4:$AK$14,0))) | T16: =IF(C16="","",INDEX(データ!$AG$4:$AG$428,MATCH(申し込みシート!C16,データ!$AF$4:$AF$428,0))) | V16: =CONCATENATE(AA16,A16) -> 012 | W16: =CONCATENATE(E16,AH16,G16,AI16) -> () | X16: =F16 -> 0 | Y16: =H16 -> 0 | Z16: 33 | AA16: =T16 | AB16: =D16 -> 0 | AC16: =IF(I16="","",CONCATENATE(AF16,K16)) | AD16: =IF(M16="","",CONCATENATE(AG16,O16)) | AF16: =INDEX(データ!$AN$4:$AN$14,MATCH(申し込みシート!I16,データ!$AK$4:$AK$14,0)) -> #N/A | AG16: =INDEX(データ!$AN$4:$AN$14,MATCH(申し込みシート!M16,データ!$AK$4:$AK$14,0)) -> #N/A | AH16: ( | AI16: )
... A44: 040 | J44: =IF(I44="","",INDEX(データ!$AL$4:$AL$22,MATCH(申し込みシート!I44,データ!$AK$4:$AK$14,0))) | L44: =IF(K44="","",INDEX(データ!$AM$4:$AM$22,MATCH(申し込みシート!I44,データ!$AK$4:$AK$14,0))) | N44: =IF(M44="","",INDEX(データ!$AL$4:$AL$22,MATCH(申し込みシート!M44,データ!$AK$4:$AK$14,0))) | P44: =IF(O44="","",INDEX(データ!$AM$4:$AM$22,MATCH(申し込みシート!M44,データ!$AK$4:$AK$14,0))) | T44: =IF(C44="","",INDEX(データ!$AG$4:$AG$428,MATCH(申し込みシート!C44,データ!$AF$4:$AF$428,0))) | V44: =CONCATENATE(AA44,A44) -> 040 | W44: =CONCATENATE(E44,AH44,G44,AI44) -> () | X44: =F44 -> 0 | Y44: =H44 -> 0 | Z44: 33 | AA44: =T44 | AB44: =D44 -> 0 | AC44: =IF(I44="","",CONCATENATE(AF44,K44)) | AD44: =IF(M44="","",CONCATENATE(AG44,O44)) | AF44: =INDEX(データ!$AN$4:$AN$14,MATCH(申し込みシート!I44,データ!$AK$4:$AK$14,0)) -> #N/A | AG44: =INDEX(データ!$AN$4:$AN$14,MATCH(申し込みシート!M44,データ!$AK$4:$AK$14,0)) -> #N/A | AH44: ( | AI44: )

Sheet 案内
A2: （送信する前に）
B3: ○締切日厳守でお願いします。
B4: ○ウイルスチェックは厳重にお願いします。ウイルスが含まれている場合，受信拒否となりますから，申し込み先にデータが届きません。
B5: 受信したものについては，返信メールを送付しますから，必ず１０月６日（火）までに確認してください。
B6: ○返信メールが届かない場合，１０月７日１８：００までに必ず申し込み先に連絡をとってください。
B7: それ以後に気付かれても，集約作業が開始されていますから，送信ミスによる追加申し込みみも応じかねます。
A9: （確認ができたら送信）
B10: ①この文書を必ず保存してください。大会当日ﾌﾟﾘﾝﾄｱｳﾄしたものを持参してくだされば，ﾄﾗﾌﾞﾙがあった場合の確認になります。
B11: ②以下の申し込み先の内，該当するアドレス（青色部分）をクリックしてください。
B12: ③必要事項を記入し，この文書をこのままのエクセル形式の文書として添付して送信してください。
N13: 該当地区
A14: ●岡山地区申し込み先メールアドレス | D14: rikujyou_yamada@yahoo.co.jp | N14: 岡山市，玉野市
B15: 問い合わせ先 | K15: 藤谷 智也
A16: ●東部地区申し込み先メールアドレス | D16: sakurasohren1010@yahoo.co.jp | N16: 加賀郡，備前市，赤磐市 和気郡，瀬戸内市 | O16: 加賀郡，備前市 赤磐市，和気郡 瀬戸内市 | P16: 加賀郡，備前市 赤磐市，和気郡 瀬戸内市 | Q16: 加賀郡，備前市 赤磐市，和気郡 瀬戸内市
B17: 問い合わせ先 | K17: 竹中 一雄 | N17: 加賀郡，備前市 赤磐市，和気郡 瀬戸内市 | O17: 加賀郡，備前市 赤磐市，和気郡 瀬戸内市 | P17: 加賀郡，備前市 赤磐市，和気郡 瀬戸内市 | Q17: 加賀郡，備前市 赤磐市，和気郡 瀬戸内市
A18: ●倉敷地区申し込み先メールアドレス | D18: track.and.field.0116@gmail.com | N18: 都窪郡，倉敷市
B19: 問い合わせ先 | K19: 土田 正順
A20: ●西部地区申し込み先メールアドレス | D20: gattin_57@outlook.jp | N20: 浅口市，浅口郡，笠岡市 小田郡，井原市，総社市 | O20: 浅口市，浅口郡 笠岡市，小田郡 井原市，総社市 | P20: 浅口市，浅口郡 笠岡市，小田郡 井原市，総社市 | Q20: 浅口市，浅口郡 笠岡市，小田郡 井原市，総社市
B21: 問い合わせ先 | K21: 中原 邦明 | N21: 浅口市，浅口郡 笠岡市，小田郡 井原市，総社市 | O21: 浅口市，浅口郡 笠岡市，小田郡 井原市，総社市 | P21: 浅口市，浅口郡 笠岡市，小田郡 井原市，総社市 | Q21: 浅口市，浅口郡 笠岡市，小田郡 井原市，総社市
A22: ●高梁､新見地区申し込み先メールアドレス | D22: m_tanabe64@ybb.ne.jp | N22: 高梁市、新見市
B23: 問い合わせ先 | K23: 田邉 眞
A24: ●津山地区申し込み先メールアドレス | D24: deisu_0408@yahoo.co.jp | N24: 津山市，苫田郡，久米郡，真庭市 真庭郡，美作市，勝田郡，英田郡 | O24: 津山市，苫田郡 久米郡，真庭市 真庭郡，美作市 勝田郡，英田郡 | P24: 津山市，苫田郡 久米郡，真庭市 真庭郡，美作市 勝田郡，英田郡 | Q24: 津山市，苫田郡 久米郡，真庭市 真庭郡，美作市 勝田郡，英田郡
B25: 問い合わせ先 | K25: 大久保仁志 | N25: 津山市，苫田郡 久米郡，真庭市 真庭郡，美作市 勝田郡，英田郡 | O25: 津山市，苫田郡 久米郡，真庭市 真庭郡，美作市 勝田郡，英田郡 | P25: 津山市，苫田郡 久米郡，真庭市 真庭郡，美作市 勝田郡，英田郡 | Q25: 津山市，苫田郡 久米郡，真庭市 真庭郡，美作市 勝田郡，英田郡

Sheet データ
B1: 1 | C1: 2 | D1: 3 | E1: 4 | F1: 5 | G1: 6 | H1: 7 | I1: 8 | J1: 9 | K1: 10 | L1: 11 | M1: 12 | N1: 13 | O1: 14 | P1: 15 | Q1: 16 | R1: 17 | S1: 18 | T1: 19 | U1: 20 | V1: 21 | W1: 22 | X1: 23 | Y1: 24 | Z1: 25 | AA1: 26 | AB1: 27
A2: =SUM(B2:AB2) -> 356 | B2: =COUNTA(B4:B100) -> 90 | C2: =COUNTA(C4:C100) -> 4 | D2: =COUNTA(D4:D100) -> 10 | E2: =COUNTA(E4:E100) -> 12 | F2: =COUNTA(F4:F100) -> 3 | G2: =COUNTA(G4:G100) -> 9 | H2: =COUNTA(H4:H100) -> 13 | I2: =COUNTA(I4:I100) -> 1 | ... AB2: =COUNTA(AB4:AB100) -> 1
B3: 岡山 | C3: 吉備中央 | D3: 備前 | E3: 赤磐 | F3: 和気 | G3: 瀬戸内 | H3: 玉野 | I3: 早島 | J3: 倉敷 | K3: 浅口 | L3: 里庄 | M3: 笠岡 | N3: 矢掛 | O3: 井原 | P3: 総社 | Q3: 高梁 | R3: 新見 | S3: 津山 | T3: 鏡野 | U3: 美咲 | V3: 久米南 | W3: 真庭 | X3: 新庄 | Y3: 美作 | Z3: 勝央 | AA3: 奈義 | AB3: 西粟倉 | AE3: 市町村 | AF3: 学校名 | AG3: 学校ｺｰﾄﾞ | AH3: ﾅﾝﾊﾞｰｶｰﾄﾞ | AK3: 種目番号
B4: 岡山中央小 | C4: 加賀東小 | D4: 西鶴山小 | E4: 山陽小 | F4: 和気本荘小 | G4: 今城小 | H4: 田井小 | I4: 早島小 | J4: 倉敷東小 | K4: 金光竹小 | L4: 里庄東小 | M4: 笠岡小 | N4: 小田美川小 | O4: 高屋小 | P4: 総社小 | Q4: 高梁小 | R4: 思誠小 | S4: 津山東小 | T4: 鏡野南小 | U4: 加美小 | V4: 弓削小 | W4: 北房小 | X4: 新庄小 | Y4: 勝田小 | Z4: 勝間田小 | AA4: 奈義小 | AB4: 西粟倉小 | AC4: =COUNTIF($AF$4:$AF$428,AF4) -> 1 | AD4: 1 | AE4: 岡山 | AF4: 岡山中央小 | AG4: 337001 | AJ4: ｵｶﾔﾏﾁｭｳｵｳｼｮｳ | AK4: 1 | AL4: １００ｍ ６年の部 | AM4: 秒 | AN4: 00260 000 | AO4: 〇
B5: 清輝小 | C5: 加賀西小 | D5: 香登小 | E5: 山陽西小 | F5: 和気小 | G5: 邑久小 | H5: 築港小 | J5: 倉敷西小 | K5: 金光小 | L5: 里庄西小 | M5: 笠岡中央小 | N5: 矢掛小 | O5: 大江小 | P5: 総社中央小 | Q5: 津川小 | R5: 高尾小 | S5: 津山西小 | T5: 苫田大野小 | U5: 美咲中央小 | V5: 誕生寺小 | W5: 真庭落合小 | Y5: 勝田東小 | Z5: 勝央北小 | AC5: =COUNTIF($AF$4:$AF$428,AF5) -> 1 | AD5: 2 | AE5: 岡山 | AF5: 清輝小 | AG5: 337002 | AJ5: ｾｲｷｼｮｳ | AK5: 2 | AL5: １００ｍ ４・５年の部 | AM5: 秒 | AN5: 00280 000 | AO5: ×
B6: 旭東小 | C6: 加賀南小 | D6: 伊部小 | E6: 山陽東小 | F6: 佐伯小 | G6: 裳掛小 | H6: 玉野宇野小 | J6: 老松小 | K6: 金光吉備小 | M6: 金浦小 | N6: 三谷小 | O6: 稲倉小 | P6: 総社北小 | Q6: 高梁川面小 | R6: 新見南小 | S6: 津山南小 | T6: 鶴喜小 | U6: 旭学園 | V6: 神目小 | W6: 天津小 | Y6: 大原小 | AC6: =COUNTIF($AF$4:$AF$428,AF6) -> 1 | AD6: 3 | AE6: 岡山 | AF6: 旭東小 | AG6: 337003 | AJ6: ｷｮｸﾄｳｼｮｳ | AK6: 3 | AL6: １０００ｍ走 | AM6: 秒 | AN6: 00770 00
B7: 伊島小 | D7: 片上小 | E7: 山陽北小 | G7: 牛窓西小 | H7: 玉小 | J7: 万寿小 | K7: 鴨方東小 | M7: 城見小 | N7: 小田山田小 | O7: 県主小 | P7: 常盤小 | Q7: 巨瀬小 | R7: 草間台小 | S7: 津山北小 | T7: 香々美小 | U7: 柵原学園 | W7: 川東小 | Y7: 美作第一小 | AC7: =COUNTIF($AF$4:$AF$428,AF7) -> 1 | AD7: 4 | AE7: 岡山 | AF7: 伊島小 | AG7: 337004 | AJ7: ｲｼﾏｼｮｳ | AK7: 4 | AL7: ８００ｍ走 | AM7: 秒 | AN7: 00670 00
B8: 津島小 | C8: 吉備高原のびのび小 | D8: 伊里小 | E8: 石相小 | G8: 牛窓東小 | H8: 玉原小 | J8: 万寿東小 | K8: 鴨方西小 | M8: 陶山小 | N8: 小田川面小 | O8: 木之子小 | P8: 総社東小 | Q8: 中井小 | R8: 塩城小 | S8: 林田小 | T8: 奥津小 | W8: 河内小 | Y8: 美作北小 | AC8: =COUNTIF($AF$4:$AF$428,AF8) -> 1 | AD8: 5 | AE8: 岡山 | AF8: 津島小 | AG8: 337005 | AJ8: ﾂｼﾏｼｮｳ | AK8: 5 | AL8: ６０ｍＨ走 | AM8: 秒 | AN8: 04100 000
B9: 石井小 | D9: 東鶴山小 | E9: 軽部小 | G9: 牛窓北小 | H9: 日比小 | J9: 大高小 | K9: 六条院小 | M9: 大井小 | N9: 中川小 | O9: 荏原小 | P9: 阿曽小 | Q9: 玉川小 | R9: 上市小 | S9: 鶴山小 | W9: 木山小 | Y9: 江見小 | AC9: =COUNTIF($AF$4:$AF$428,AF9) -> 1 | AD9: 6 | AE9: 岡山 | AF9: 石井小 | AG9: 337006 | AJ9: ｲｼｲｼｮｳ | AK9: 6 | AL9: ８０ｍＨ走 | AM9: 秒 | AN9: 04300 000
B10: 鹿田小 | D10: 三石小 | E10: 笹岡小 | G10: 美和小 | H10: 第二日比小 | J10: 倉敷南小 | K10: 寄島学園 | M10: 吉田小 | N10: 小田小 | O10: 西江原小 | P10: 池田小 | R10: 西方小 | S10: 弥生小 | W10: 真庭美川小 | Y10: 土居小 | AC10: =COUNTIF($AF$4:$AF$428,AF10) -> 1 | AD10: 7 | AE10: 岡山 | AF10: 鹿田小 | AG10: 337007 | AJ10: ｼｶﾀｼｮｳ | AK10: 7 | AL10: 走高跳 | AM10: m | AN10: 07170 00
B11: 大元小 | D11: 日生西小 | E11: 豊田小 | G11: 国府小 | H11: 玉野山田小 | J11: 葦高小 | M11: 新山小 | O11: 野上小 | P11: 秦小 | R11: 刑部小 | S11: 向陽小 | W11: 遷喬小 | Y11: 英田小 | AC11: =COUNTIF($AF$4:$AF$428,AF11) -> 1 | AD11: 8 | AE11: 岡山 | AF11: 大元小 | AG11: 337008 | AJ11: ｵｵﾓﾄｼｮｳ | AK11: 8 | AL11: 走幅跳 | AM11: m | AN11: 07370 00
B12: 御野小 | D12: 日生東小 | E12: 磐梨小 | G12: 行幸小 | H12: 後閑小 | J12: 中洲小 | M12: 神内小 | O12: 青野小 | P12: 神在小 | Q12: 高梁落合小 | R12: 神代小 | S12: 院庄小 | W12: 草加部小 | AC12: =COUNTIF($AF$4:$AF$428,AF12) -> 1 | AD12: 9 | AE12: 岡山 | AF12: 御野小 | AG12: 337009 | AJ12: ﾐﾉｼｮｳ | AK12: 9 | AL12: ｿﾌﾄﾎﾞｰﾙ投げ | AM12: m | AN12: 09670 00
B13: 三勲小 | D13: 吉永小 | E13: 桜が丘小 | H13: 荘内小 | J13: 中島小 | M13: 大島小 | O13: 井原小 | P13: 総社西小 | Q13: 福地小 | R13: 矢神小 | S13: 佐良山小 | W13: 米来小 | AC13: =COUNTIF($AF$4:$AF$428,AF13) -> 1 | AD13: 10 | AE13: 岡山 | AF13: 三勲小 | AG13: 337010 | AJ13: ｻﾝｸﾝｼｮｳ | AK13: 10 | AL13: ４×１００ｍＲ ６年の部 | AM13: 秒 | AN13: 60160 00
B14: 福浜小 | E14: 城南小 | H14: 八浜小 | J14: 粒江小 | M14: 神島外小 | O14: 出部小 | P14: 新本小 | Q14: 有漢学園 | R14: 野馳小 | S14: 一宮小 | W14: 樫邑小 | AC14: =COUNTIF($AF$4:$AF$428,AF14) -> 1 | AD14: 11 | AE14: 岡山 | AF14: 福浜小 | AG14: 337011 | AJ14: ﾌｸﾊﾏｼｮｳ | AK14: 11 | AL14: ４×１００ｍＲ ４．５年の部 | AM14: 秒 | AN14: 60180 00
B15: 平福小 | E15: 仁美小 | H15: 玉野大崎小 | J15: 中庄小 | M15: 北木小 | O15: 美星小 | P15: 昭和五つ星学園 | Q15: 成羽小 | R15: 新砥小 | S15: 高田小 | W15: 余野小 | AC15: =COUNTIF($AF$4:$AF$428,AF15) -> 1 | AD15: 12 | AE15: 岡山 | AF15: 平福小 | AG15: 337012 | AJ15: ﾋﾗﾌｸｼｮｳ
B16: 芳泉小 | H16: 胸上小 | J16: 帯江小 | O16: 芳井小 | Q16: 高梁川上小 | R16: 本郷小 | S16: 清泉小 | W16: 勝山小 | AC16: =COUNTIF($AF$4:$AF$428,AF16) -> 1 | AD16: 13 | AE16: 岡山 | AF16: 芳泉小 | AG16: 337013 | AJ16: ﾎｳｾﾝｼｮｳ
B17: 岡山宇野小 | J17: 菅生小 | M17: 六島小 | P17: 山手小 | Q17: 富家小 | S17: 成名小 | W17: 月田小 | AC17: =COUNTIF($AF$4:$AF$428,AF17) -> 1 | AD17: 14 | AE17: 岡山 | AF17: 岡山宇野小 | AG17: 337014 | AJ17: ｵｶﾔﾏｳﾉｼｮｳ
B18: 旭竜小 | J18: 豊洲小 | M18: 北川小 | P18: 清音小 | S18: 高倉小 | W18: 富原小 | AC18: =COUNTIF($AF$4:$AF$428,AF18) -> 1 | AD18: 15 | AE18: 岡山 | AF18: 旭竜小 | AG18: 337015 | AJ18: ｷｮｸﾘｭｳｼｮｳ
B19: 岡南小 | J19: 庄小 | S19: 高野小 | W19: 美甘小 | AC19: =COUNTIF($AF$4:$AF$428,AF19) -> 1 | AD19: 16 | AE19: 岡山 | AF19: 岡南小 | AG19: 337016 | AJ19: ｺｳﾅﾝｼｮｳ
B20: 平井小 | J20: 茶屋町小 | S20: 河辺小 | W20: 湯原小 | AC20: =COUNTIF($AF$4:$AF$428,AF20) -> 1 | AD20: 17 | AE20: 岡山 | AF20: 平井小 | AG20: 337017 | AJ20: ﾋﾗｲｼｮｳ
B21: 福島小 | J21: 西阿知小 | S21: 津山大崎小 | W21: 中和小 | AC21: =COUNTIF($AF$4:$AF$428,AF21) -> 1 | AD21: 18 | AE21: 岡山 | AF21: 福島小 | AG21: 337018 | AJ21: ﾌｸｼﾏｼｮｳ
B22: 南輝小 | J22: 第一福田小 | S22: 広野小 | W22: 八束小 | AC22: =COUNTIF($AF$4:$AF$428,AF22) -> 1 | AD22: 19 | AE22: 岡山 | AF22: 南輝小 | AG22: 337019 | AJ22: ﾅﾝｷｼｮｳ
B23: 操南小 | J23: 第二福田小 | S23: 津山加茂小 | W23: 真庭川上小 | AC23: =COUNTIF($AF$4:$AF$428,AF23) -> 1 | AD23: 20 | AE23: 岡山 | AF23: 操南小 | AG23: 337020 | AJ23: ｿｳﾅﾝｼｮｳ
B24: 操明小 | J24: 第三福田小 | S24: 勝加茂小 | AC24: =COUNTIF($AF$4:$AF$428,AF24) -> 1 | AD24: 21 | AE24: 岡山 | AF24: 操明小 | AG24: 337021 | AJ24: ｿｳﾒｲｼｮｳ
B25: 富山小 | J25: 第四福田小 | S25: 新野小 | AC25: =COUNTIF($AF$4:$AF$428,AF25) -> 1 | AD25: 22 | AE25: 岡山 | AF25: 富山小 | AG25: 337022 | AJ25: ﾄﾐﾔﾏｼｮｳ
B26: 旭操小 | J26: 第五福田小 | S26: 広戸小 | AC26: =COUNTIF($AF$4:$AF$428,AF26) -> 1 | AD26: 23 | AE26: 岡山 | AF26: 旭操小 | AG26: 337023 | AJ26: ｷｮｸｿｳｼｮｳ
B27: 牧石小 | J27: 水島小 | S27: 喬松小 | AC27: =COUNTIF($AF$4:$AF$428,AF27) -> 1 | AD27: 24 | AE27: 岡山 | AF27: 牧石小 | AG27: 337024 | AJ27: ﾏｷｲｼｼｮｳ
B28: 大野小 | J28: 旭丘小 | S28: 中正小 | AC28: =COUNTIF($AF$4:$AF$428,AF28) -> 1 | AD28: 25 | AE28: 岡山 | AF28: 大野小 | AG28: 337025 | AJ28: ｵｵﾉｼｮｳ
B29: 岡山西小 | J29: 連島西浦小 | S29: 誠道小 | AC29: =COUNTIF($AF$4:$AF$428,AF29) -> 1 | AD29: 26 | AE29: 岡山 | AF29: 岡山西小 | AG29: 337026 | AJ29: ｵｶﾔﾏﾆｼｼｮｳ
B30: 御南小 | J30: 連島神亀小 | S30: 秀実小 | AC30: =COUNTIF($AF$4:$AF$428,AF30) -> 1 | AD30: 27 | AE30: 岡山 | AF30: 御南小 | AG30: 337027 | AJ30: ﾐﾅﾝｼｮｳ
B31: 陵南小 | J31: 連島東小 | AC31: =COUNTIF($AF$4:$AF$428,AF31) -> 1 | AD31: 28 | AE31: 岡山 | AF31: 陵南小 | AG31: 337028 | AJ31: ﾘｮｳﾅﾝｼｮｳ
B32: 芳田小 | J32: 連島南小 | AC32: =COUNTIF($AF$4:$AF$428,AF32) -> 1 | AD32: 29 | AE32: 岡山 | AF32: 芳田小 | AG32: 337029 | AJ32: ﾖｼﾀﾞｼｮｳ
B33: 芳明小 | J33: 連島北小 | AC33: =COUNTIF($AF$4:$AF$428,AF33) -> 1 | AD33: 30 | AE33: 岡山 | AF33: 芳明小 | AG33: 337030 | AJ33: ﾎｳﾒｲｼｮｳ
B34: 甲浦小 | J34: 天城小 | AC34: =COUNTIF($AF$4:$AF$428,AF34) -> 1 | AD34: 31 | AE34: 岡山 | AF34: 甲浦小 | AG34: 337031 | AJ34: ｺｳｳﾗｼｮｳ
B35: 三門小 | J35: 味野小 | AC35: =COUNTIF($AF$4:$AF$428,AF35) -> 1 | AD35: 32 | AE35: 岡山 | AF35: 三門小 | AG35: 337032 | AJ35: ﾐｶﾄﾞｼｮｳ
B36: 財田小 | J36: 赤崎小 | AC36: =COUNTIF($AF$4:$AF$428,AF36) -> 1 | AD36: 33 | AE36: 岡山 | AF36: 財田小 | AG36: 337033 | AJ36: ｻｲﾃﾞﾝｼｮｳ
B37: 竜之口小 | J37: 下津井東小 | AC37: =COUNTIF($AF$4:$AF$428,AF37) -> 1 | AD37: 34 | AE37: 岡山 | AF37: 竜之口小 | AG37: 337034 | AJ37: ﾀﾂﾉｸﾁｼｮｳ
B38: 高島小 | J38: 下津井西小 | AC38: =COUNTIF($AF$4:$AF$428,AF38) -> 1 | AD38: 35 | AE38: 岡山 | AF38: 高島小 | AG38: 337035 | AJ38: ﾀｶｼﾏｼｮｳ
B39: 幡多小 | J39: 倉敷本荘小 | AC39: =COUNTIF($AF$4:$AF$428,AF39) -> 1 | AD39: 36 | AE39: 岡山 | AF39: 幡多小 | AG39: 337036 | AJ39: ﾊﾀｼｮｳ
B40: 小串小 | J40: 児島小 | AC40: =COUNTIF($AF$4:$AF$428,AF40) -> 1 | AD40: 37 | AE40: 岡山 | AF40: 小串小 | AG40: 337037 | AJ40: ｺｸﾞｼｼｮｳ
B41: 浦安小 | J41: 緑丘小 | AC41: =COUNTIF($AF$4:$AF$428,AF41) -> 1 | AD41: 38 | AE41: 岡山 | AF41: 浦安小 | AG41: 337038 | AJ41: ｳﾗﾔｽｼｮｳ
B42: 中山小 | J42: 琴浦東小 | AC42: =COUNTIF($AF$4:$AF$428,AF42) -> 1 | AD42: 39 | AE42: 岡山 | AF42: 中山小 | AG42: 337039 | AJ42: ﾁｭｳｻﾞﾝｼｮｳ
... B44: 桃丘小 | J44: 琴浦南小 | AC44: =COUNTIF($AF$4:$AF$428,AF44) -> 1 | AD44: 41 | AE44: 岡山 | AF44: 桃丘小 | AG44: 337041 | AJ44: ﾓﾓｶﾞｵｶｼｮｳ
B45: 平津小 | AC45: =COUNTIF($AF$4:$AF$428,AF45) -> 1 | AD45: 42 | AE45: 岡山 | AF45: 平津小 | AG45: 337042 | AJ45: ﾋﾗﾂｼｮｳ
B46: 野谷小 | J46: 郷内小 | AC46: =COUNTIF($AF$4:$AF$428,AF46) -> 1 | AD46: 43 | AE46: 岡山 | AF46: 野谷小 | AG46: 337043 | AJ46: ﾉﾀﾞﾆｼｮｳ
B47: 横井小 | J47: 玉島小 | AC47: =COUNTIF($AF$4:$AF$428,AF47) -> 1 | AD47: 44 | AE47: 岡山 | AF47: 横井小 | AG47: 337044 | AJ47: ﾖｺｲｼｮｳ
B48: 馬屋上小 | J48: 上成小 | AC48: =COUNTIF($AF$4:$AF$428,AF48) -> 1 | AD48: 45 | AE48: 岡山 | AF48: 馬屋上小 | AG48: 337045 | AJ48: ﾏﾔｶﾐｼｮｳ
B49: 庄内小 | J49: 乙島小 | AC49: =COUNTIF($AF$4:$AF$428,AF49) -> 1 | AD49: 46 | AE49: 岡山 | AF49: 庄内小 | AG49: 337046 | AJ49: ｼｮｳﾅｲｼｮｳ
B50: 岡山加茂小 | J50: 乙島東小 | AC50: =COUNTIF($AF$4:$AF$428,AF50) -> 1 | AD50: 47 | AE50: 岡山 | AF50: 岡山加茂小 | AG50: 337047 | AJ50: ｵｶﾔﾏｶﾓｼｮｳ
B51: 鯉山小 | J51: 柏島小 | AC51: =COUNTIF($AF$4:$AF$428,AF51) -> 1 | AD51: 48 | AE51: 岡山 | AF51: 鯉山小 | AG51: 337048 | AJ51: ﾘｻﾞﾝｼｮｳ
B52: 吉備小 | J52: 玉島南小 | AC52: =COUNTIF($AF$4:$AF$428,AF52) -> 1 | AD52: 49 | AE52: 岡山 | AF52: 吉備小 | AG52: 337049 | AJ52: ｷﾋﾞｼｮｳ
B53: 妹尾小 | J53: 長尾小 | AC53: =COUNTIF($AF$4:$AF$428,AF53) -> 1 | AD53: 50 | AE53: 岡山 | AF53: 妹尾小 | AG53: 337050 | AJ53: ｸﾚｾｼｮｳ
B54: 箕島小 | J54: 富田小 | AC54: =COUNTIF($AF$4:$AF$428,AF54) -> 1 | AD54: 51 | AE54: 岡山 | AF54: 箕島小 | AG54: 337051 | AJ54: ﾐｼﾏｼｮｳ
B55: 福田小 | J55: 沙美小 | AC55: =COUNTIF($AF$4:$AF$428,AF55) -> 1 | AD55: 52 | AE55: 岡山 | AF55: 福田小 | AG55: 337052 | AJ55: ﾌｸﾀﾞｼｮｳ
B56: 興除小 | AC56: =COUNTIF($AF$4:$AF$428,AF56) -> 1 | AD56: 53 | AE56: 岡山 | AF56: 興除小 | AG56: 337053 | AJ56: ｺｳｼﾞｮｼｮｳ
B57: 曽根小 | J57: 穂井田小 | AC57: =COUNTIF($AF$4:$AF$428,AF57) -> 1 | AD57: 54 | AE57: 岡山 | AF57: 曽根小 | AG57: 337054 | AJ57: ｿﾈｼｮｳ
B58: 東疇小 | J58: 船穂小 | AC58: =COUNTIF($AF$4:$AF$428,AF58) -> 1 | AD58: 55 | AE58: 岡山 | AF58: 東疇小 | AG58: 337055 | AJ58: ﾋｶﾞｼｳﾈｼｮｳ
B59: 足守小 | J59: 柳井原小 | AC59: =COUNTIF($AF$4:$AF$428,AF59) -> 1 | AD59: 56 | AE59: 岡山 | AF59: 足守小 | AG59: 337056 | AJ59: ｱｼﾓﾘｼｮｳ
B60: 蛍明小 | J60: 川辺小 | AC60: =COUNTIF($AF$4:$AF$428,AF60) -> 1 | AD60: 57 | AE60: 岡山 | AF60: 蛍明小 | AG60: 337057 | AJ60: ｹｲﾒｲｼｮｳ
B61: 第一藤田小 | J61: 岡田小 | AC61: =COUNTIF($AF$4:$AF$428,AF61) -> 1 | AD61: 58 | AE61: 岡山 | AF61: 第一藤田小 | AG61: 337058 | AJ61: ﾀﾞｲｲﾁﾌｼﾞﾀｼｮｳ
B62: 第二藤田小 | J62: 薗小 | AC62: =COUNTIF($AF$4:$AF$428,AF62) -> 1 | AD62: 59 | AE62: 岡山 | AF62: 第二藤田小 | AG62: 337059 | AJ62: ﾀﾞｲﾆﾌｼﾞﾀｼｮｳ
B63: 第三藤田小 | J63: 二万小 | AC63: =COUNTIF($AF$4:$AF$428,AF63) -> 1 | AD63: 60 | AE63: 岡山 | AF63: 第三藤田小 | AG63: 337060 | AJ63: ﾀﾞｲｻﾝﾌｼﾞﾀｼｮｳ
B64: 古都小 | J64: 箭田小 | AC64: =COUNTIF($AF$4:$AF$428,AF64) -> 1 | AD64: 61 | AE64: 岡山 | AF64: 古都小 | AG64: 337061 | AJ64: ｺｽﾞｼｮｳ
B65: 可知小 | J65: 呉妹小 | AC65: =COUNTIF($AF$4:$AF$428,AF65) -> 1 | AD65: 62 | AE65: 岡山 | AF65: 可知小 | AG65: 337062 | AJ65: ｶﾁｼｮｳ
B66: 政田小 | AC66: =COUNTIF($AF$4:$AF$428,AF66) -> 1 | AD66: 63 | AE66: 岡山 | AF66: 政田小 | AG66: 337063 | AJ66: ﾏｻﾀﾞｼｮｳ
B67: 開成小 | AC67: =COUNTIF($AF$4:$AF$428,AF67) -> 1 | AD67: 64 | AE67: 岡山 | AF67: 開成小 | AG67: 337064 | AJ67: ｶｲｾｲｼｮｳ
B68: 西大寺南小 | AC68: =COUNTIF($AF$4:$AF$428,AF68) -> 1 | AD68: 65 | AE68: 岡山 | AF68: 西大寺南小 | AG68: 337065 | AJ68: ｻｲﾀﾞｲｼﾞﾐﾅﾐｼｮｳ
B69: 芥子山小 | AC69: =COUNTIF($AF$4:$AF$428,AF69) -> 1 | AD69: 66 | AE69: 岡山 | AF69: 芥子山小 | AG69: 337066 | AJ69: ｹｼｺﾞﾔﾏｼｮｳ
B70: 西大寺小 | AC70: =COUNTIF($AF$4:$AF$428,AF70) -> 1 | AD70: 67 | AE70: 岡山 | AF70: 西大寺小 | AG70: 337067 | AJ70: ｻｲﾀﾞｲｼﾞｼｮｳ
B71: 雄神小 | AC71: =COUNTIF($AF$4:$AF$428,AF71) -> 1 | AD71: 68 | AE71: 岡山 | AF71: 雄神小 | AG71: 337068 | AJ71: ｵｶﾞﾐｼｮｳ
B72: 豊小 | AC72: =COUNTIF($AF$4:$AF$428,AF72) -> 1 | AD72: 69 | AE72: 岡山 | AF72: 豊小 | AG72: 337069 | AJ72: ﾄﾖｼｮｳ
B73: 山南学園 | AC73: =COUNTIF($AF$4:$AF$428,AF73) -> 1 | AD73: 70 | AE73: 岡山 | AF73: 山南学園 | AG73: 337070 | AJ73: ｻﾝﾅﾝｶﾞｸｴﾝ
B74: 浮田小 | AC74: =COUNTIF($AF$4:$AF$428,AF74) -> 1 | AD74: 71 | AE74: 岡山 | AF74: 浮田小 | AG74: 337071 | AJ74: ｳｷﾀｼｮｳ
B75: 城東台小 | AC75: =COUNTIF($AF$4:$AF$428,AF75) -> 1 | AD75: 72 | AE75: 岡山 | AF75: 城東台小 | AG75: 337072 | AJ75: ｼﾞｮｳﾄｳﾀﾞｲｼｮｳ
B76: 平島小 | AC76: =COUNTIF($AF$4:$AF$428,AF76) -> 1 | AD76: 73 | AE76: 岡山 | AF76: 平島小 | AG76: 337073 | AJ76: ﾋﾗｼﾞﾏｼｮｳ
B77: 御休小 | AC77: =COUNTIF($AF$4:$AF$428,AF77) -> 1 | AD77: 74 | AE77: 岡山 | AF77: 御休小 | AG77: 337074 | AJ77: ﾐﾔｽｼｮｳ
... B93: 就実小 | AC93: =COUNTIF($AF$4:$AF$428,AF93) -> 1 | AD93: 90 | AE93: 岡山 | AF93: 就実小 | AG93: 337090 | AJ93: ｼｭｳｼﾞﾂｼｮｳ
AC94: =COUNTIF($AF$4:$AF$428,AF94) -> 0 | AD94: 91 | AE94: 岡山 | AG94: 337091
AC95: =COUNTIF($AF$4:$AF$428,AF95) -> 0 | AD95: 92 | AE95: 岡山 | AG95: 337092
AC96: =COUNTIF($AF$4:$AF$428,AF96) -> 0 | AD96: 93 | AE96: 岡山 | AG96: 337093
AC97: =COUNTIF($AF$4:$AF$428,AF97) -> 1 | AD97: 94 | AE97: 吉備中央 | AF97: 加賀東小 | AG97: 337094 | AJ97: ｶｶﾞﾋｶﾞｼｼｮｳ
AC98: =COUNTIF($AF$4:$AF$428,AF98) -> 1 | AD98: 95 | AE98: 吉備中央 | AF98: 加賀西小 | AG98: 337095 | AJ98: ｶｶﾞﾆｼｼｮｳ
AC99: =COUNTIF($AF$4:$AF$428,AF99) -> 1 | AD99: 96 | AE99: 吉備中央 | AF99: 加賀南小 | AG99: 337096 | AJ99: ｶｶﾞﾐﾅﾐｼｮｳ
AC100: =COUNTIF($AF$4:$AF$428,AF100) -> 0 | AD100: 97 | AE100: 吉備中央 | AG100: 337097
AC101: =COUNTIF($AF$4:$AF$428,AF101) -> 1 | AD101: 98 | AE101: 吉備中央 | AF101: 吉備高原のびのび小 | AG101: 337098 | AJ101: ｷﾋﾞｺｳｹﾞﾝﾉﾋﾞﾉﾋﾞｼｮｳ
AC102: =COUNTIF($AF$4:$AF$428,AF102) -> 0 | AD102: 99 | AE102: 吉備中央 | AG102: 337099
AC103: =COUNTIF($AF$4:$AF$428,AF103) -> 0 | AD103: 100 | AE103: 吉備中央 | AG103: 337100
AC104: =COUNTIF($AF$4:$AF$428,AF104) -> 0 | AD104: 101 | AE104: 吉備中央 | AG104: 337101
AC105: =COUNTIF($AF$4:$AF$428,AF105) -> 0 | AD105: 102 | AE105: 吉備中央 | AG105: 337102
AC106: =COUNTIF($AF$4:$AF$428,AF106) -> 0 | AD106: 103 | AE106: 吉備中央 | AG106: 337103
AC107: =COUNTIF($AF$4:$AF$428,AF107) -> 1 | AD107: 104 | AE107: 備前 | AF107: 西鶴山小 | AG107: 337104 | AJ107: ﾆｼﾂﾙｼｮｳ
AC108: =COUNTIF($AF$4:$AF$428,AF108) -> 1 | AD108: 105 | AE108: 備前 | AF108: 香登小 | AG108: 337105 | AJ108: ｶｶﾞﾄｼｮｳ
AC109: =COUNTIF($AF$4:$AF$428,AF109) -> 1 | AD109: 106 | AE109: 備前 | AF109: 伊部小 | AG109: 337106 | AJ109: ｲﾝﾍﾞｼｮｳ
AC110: =COUNTIF($AF$4:$AF$428,AF110) -> 1 | AD110: 107 | AE110: 備前 | AF110: 片上小 | AG110: 337107 | AJ110: ｶﾀｶﾐｼｮｳ
AC111: =COUNTIF($AF$4:$AF$428,AF111) -> 1 | AD111: 108 | AE111: 備前 | AF111: 伊里小 | AG111: 337108 | AJ111: ｲﾘｼｮｳ
AC112: =COUNTIF($AF$4:$AF$428,AF112) -> 1 | AD112: 109 | AE112: 備前 | AF112: 東鶴山小 | AG112: 337109 | AJ112: ﾋｶﾞｼﾂﾙﾔﾏｼｮｳ
AC113: =COUNTIF($AF$4:$AF$428,AF113) -> 1 | AD113: 110 | AE113: 備前 | AF113: 三石小 | AG113: 337110 | AJ113: ﾐﾂｲｼｼｮｳ
AC114: =COUNTIF($AF$4:$AF$428,AF114) -> 1 | AD114: 111 | AE114: 備前 | AF114: 日生西小 | AG114: 337111 | AJ114: ﾋﾅｾﾆｼｼｮｳ
AC115: =COUNTIF($AF$4:$AF$428,AF115) -> 1 | AD115: 112 | AE115: 備前 | AF115: 日生東小 | AG115: 337112 | AJ115: ﾋﾅｾﾋｶﾞｼｼｮｳ
AC116: =COUNTIF($AF$4:$AF$428,AF116) -> 1 | AD116: 113 | AE116: 備前 | AF116: 吉永小 | AG116: 337113 | AJ116: ﾖｼﾅｶﾞｼｮｳ
...
